BEGIN:VCALENDAR
PRODID:-//hacksw/handcal//NONSGML v1.0//EN
VERSION:2.0
METHOD:PUBLISH
BEGIN:VEVENT
DTSTART:20260115T153000Z
DTEND:20260116T000000Z
LOCATION:Lundring Event Center - 130 Overton Court Thousand Oaks, CA 91360
UID:2884120260115T153000ZThrough the Looking Glass Symposium XXII
DTSTAMP:20260420T151224Z
DESCRIPTION:------\n\nThrough the Looking Glass Symposium XXII\n \nPresented by the Conejo Valley Estate Planning Council\n \nThursday, January 15, 2026\n \nIn-person at California Lutheran University\n Lundring Event Center - 130 Overton Court Thousand Oaks, CA 91360\n  \n \n7:30 a.m. - Arrival & Breakfast hosted by Ventura Coast Law\n 8 a.m. to 4 p.m. - Program\n \nConfirmed Speakers: \n Erik S. Henrickson, ChFC®, Senior Vice-President/Managing Wealth Advisor, Northern Trust Aaron M. White, Senior Wealth Planning Strategist, Executive Director, Wells Fargo Brendan Lacy, Holthouse | Carlin | Van Trigt, LLP Perchui Manasarian, Holthouse | Carlin | Van Trigt, LLP Edward McCaffery, Esq., Counsel. Seyfarth Shaw, LLP Stephanie C. Buckley, CAP®, Head of Philanthropic Services, Wells Fargo Bank, N.A. \n \n \nQuestions or additional information,please contact\n Dena Jenson at djenson@CalLutheran.edu | 805-493-3677\n Grace Robinson Durst at grace.robinson@csuci.edu | 805-437-3615\n ------\n\nContinuing Education Credits:\n \nState Bar of California – 6.25 Hours\nCFP Board – 6 Hours\n California Board of Accountancy – 7.5 Hours\n ------\n\nTitle Sponsor\n \n          \n \nCo-Convened by\n \n               \n  \n \nSpecial Thanks to our Generous Sponsors\n \n              \n \n       \n 
SUMMARY:Through the Looking Glass Symposium XXII - Conejo Valley Estate Planning Council 
PRIORITY:3
BEGIN:VALARM
TRIGGER:PT18H
ACTION:DISPLAY
DESCRIPTION:Reminder
END:VALARM
END:VEVENT
END:VCALENDAR